Package: CytoMethIC Version: 1.5.0 Command: /home/biocbuild/bbs-3.22-bioc/R/bin/R CMD check --install=check:CytoMethIC.install-out.txt --library=/home/biocbuild/bbs-3.22-bioc/R/site-library --timings CytoMethIC_1.5.0.tar.gz StartedAt: 2025-10-28 12:10:52 -0400 (Tue, 28 Oct 2025) EndedAt: 2025-10-28 12:17:15 -0400 (Tue, 28 Oct 2025) EllapsedTime: 382.8 seconds RetCode: 0 Status: OK CheckDir: CytoMethIC.Rcheck Warnings: 0