Package: CopyNeutralIMA Version: 1.26.0 Command: /home/biocbuild/bbs-3.21-bioc/R/bin/R CMD INSTALL CopyNeutralIMA StartedAt: 2025-07-24 10:57:59 -0400 (Thu, 24 Jul 2025) EndedAt: 2025-07-24 10:58:16 -0400 (Thu, 24 Jul 2025) EllapsedTime: 17.0 seconds RetCode: 0 Status: OK