Package: ConnectivityMap Version: 1.44.0 Command: /home/biocbuild/bbs-3.21-bioc/R/bin/R CMD build --keep-empty-dirs --no-resave-data ConnectivityMap StartedAt: 2025-07-24 11:09:45 -0400 (Thu, 24 Jul 2025) EndedAt: 2025-07-24 11:10:00 -0400 (Thu, 24 Jul 2025) EllapsedTime: 14.9 seconds RetCode: 0 Status: OK PackageFile: ConnectivityMap_1.44.0.tar.gz PackageFileSize: 236.7 MiB