Package: CellMapperData Version: 1.34.0 Command: /home/biocbuild/bbs-3.21-bioc/R/bin/R CMD INSTALL CellMapperData StartedAt: 2025-07-24 10:57:28 -0400 (Thu, 24 Jul 2025) EndedAt: 2025-07-24 10:57:38 -0400 (Thu, 24 Jul 2025) EllapsedTime: 9.3 seconds RetCode: 0 Status: OK