Package: CardinalWorkflows Version: 1.40.0 Command: /home/biocbuild/bbs-3.21-bioc/R/bin/R CMD INSTALL CardinalWorkflows StartedAt: 2025-07-24 10:57:58 -0400 (Thu, 24 Jul 2025) EndedAt: 2025-07-24 10:58:11 -0400 (Thu, 24 Jul 2025) EllapsedTime: 12.5 seconds RetCode: 0 Status: OK