Package: CardinalWorkflows Version: 1.40.0 Command: /home/biocbuild/bbs-3.21-bioc/R/bin/R CMD build --keep-empty-dirs --no-resave-data CardinalWorkflows StartedAt: 2025-07-24 11:07:24 -0400 (Thu, 24 Jul 2025) EndedAt: 2025-07-24 11:22:31 -0400 (Thu, 24 Jul 2025) EllapsedTime: 907.9 seconds RetCode: 0 Status: OK PackageFile: CardinalWorkflows_1.40.0.tar.gz PackageFileSize: 53.5 MiB