Package: CONFESSdata Version: 1.38.0 Command: /home/biocbuild/bbs-3.22-bioc/R/bin/R CMD check --install=check:CONFESSdata.install-out.txt --library=/home/biocbuild/bbs-3.22-bioc/R/site-library --timings CONFESSdata_1.38.0.tar.gz StartedAt: 2025-11-04 12:08:34 -0500 (Tue, 04 Nov 2025) EndedAt: 2025-11-04 12:08:45 -0500 (Tue, 04 Nov 2025) EllapsedTime: 11.3 seconds RetCode: 0 Status: OK CheckDir: CONFESSdata.Rcheck Warnings: 0