Package: CONFESSdata Version: 1.38.0 Command: /home/biocbuild/bbs-3.22-bioc/R/bin/R CMD build --keep-empty-dirs --no-resave-data CONFESSdata StartedAt: 2025-11-04 11:13:06 -0500 (Tue, 04 Nov 2025) EndedAt: 2025-11-04 11:13:41 -0500 (Tue, 04 Nov 2025) EllapsedTime: 34.7 seconds RetCode: 0 Status: OK PackageFile: CONFESSdata_1.38.0.tar.gz PackageFileSize: 9.832 MiB