Package: CLLmethylation Version: 1.30.0 Command: /home/biocbuild/bbs-3.22-bioc/R/bin/R CMD INSTALL CLLmethylation StartedAt: 2025-10-30 11:02:07 -0400 (Thu, 30 Oct 2025) EndedAt: 2025-10-30 11:02:32 -0400 (Thu, 30 Oct 2025) EllapsedTime: 24.3 seconds RetCode: 0 Status: OK