Package: CLLmethylation Version: 1.29.0 Command: /home/biocbuild/bbs-3.22-bioc/R/bin/R CMD check --install=check:CLLmethylation.install-out.txt --library=/home/biocbuild/bbs-3.22-bioc/R/site-library --timings CLLmethylation_1.29.0.tar.gz StartedAt: 2025-10-28 12:06:45 -0400 (Tue, 28 Oct 2025) EndedAt: 2025-10-28 12:09:22 -0400 (Tue, 28 Oct 2025) EllapsedTime: 156.6 seconds RetCode: 0 Status: OK CheckDir: CLLmethylation.Rcheck Warnings: 0