Package: BloodCancerMultiOmics2017 Version: 1.30.0 Command: /home/biocbuild/bbs-3.22-bioc/R/bin/R CMD check --install=check:BloodCancerMultiOmics2017.install-out.txt --library=/home/biocbuild/bbs-3.22-bioc/R/site-library --timings BloodCancerMultiOmics2017_1.30.0.tar.gz StartedAt: 2025-11-04 12:02:52 -0500 (Tue, 04 Nov 2025) EndedAt: 2025-11-04 12:36:17 -0500 (Tue, 04 Nov 2025) EllapsedTime: 2004.9 seconds RetCode: 0 Status: WARNINGS CheckDir: BloodCancerMultiOmics2017.Rcheck Warnings: 1