Package: BeadSorted.Saliva.EPIC Version: 1.18.0 Command: /home/biocbuild/bbs-3.22-bioc/R/bin/R CMD check --install=check:BeadSorted.Saliva.EPIC.install-out.txt --library=/home/biocbuild/bbs-3.22-bioc/R/site-library --timings BeadSorted.Saliva.EPIC_1.18.0.tar.gz StartedAt: 2025-10-30 12:17:20 -0400 (Thu, 30 Oct 2025) EndedAt: 2025-10-30 12:22:33 -0400 (Thu, 30 Oct 2025) EllapsedTime: 312.2 seconds RetCode: 0 Status: OK CheckDir: BeadSorted.Saliva.EPIC.Rcheck Warnings: 0