Package: AneuFinderData Version: 1.38.0 Command: /home/biocbuild/bbs-3.22-bioc/R/bin/R CMD build --keep-empty-dirs --no-resave-data AneuFinderData StartedAt: 2025-11-20 11:08:52 -0500 (Thu, 20 Nov 2025) EndedAt: 2025-11-20 11:08:58 -0500 (Thu, 20 Nov 2025) EllapsedTime: 5.3 seconds RetCode: 0 Status: OK PackageFile: AneuFinderData_1.38.0.tar.gz PackageFileSize: 57.02 MiB