Package: AffymetrixDataTestFiles Version: 0.46.0 Command: /home/biocbuild/bbs-3.21-bioc/R/bin/R CMD build --keep-empty-dirs --no-resave-data AffymetrixDataTestFiles StartedAt: 2025-07-24 11:06:09 -0400 (Thu, 24 Jul 2025) EndedAt: 2025-07-24 11:07:15 -0400 (Thu, 24 Jul 2025) EllapsedTime: 66.6 seconds RetCode: 0 Status: OK PackageFile: AffymetrixDataTestFiles_0.46.0.tar.gz PackageFileSize: 38.84 MiB