Package: Affyhgu133Plus2Expr Version: 1.44.0 Command: /home/biocbuild/bbs-3.22-bioc/R/bin/R CMD build --keep-empty-dirs --no-resave-data Affyhgu133Plus2Expr StartedAt: 2025-11-20 11:08:50 -0500 (Thu, 20 Nov 2025) EndedAt: 2025-11-20 11:09:06 -0500 (Thu, 20 Nov 2025) EllapsedTime: 16.0 seconds RetCode: 0 Status: OK PackageFile: Affyhgu133Plus2Expr_1.44.0.tar.gz PackageFileSize: 224.4 MiB