Package: ASICSdata Version: 1.30.0 Command: /home/biocbuild/bbs-3.22-bioc/R/bin/R CMD check --install=check:ASICSdata.install-out.txt --library=/home/biocbuild/bbs-3.22-bioc/R/site-library --timings ASICSdata_1.30.0.tar.gz StartedAt: 2025-10-30 12:17:10 -0400 (Thu, 30 Oct 2025) EndedAt: 2025-10-30 12:17:30 -0400 (Thu, 30 Oct 2025) EllapsedTime: 20.1 seconds RetCode: 0 Status: OK CheckDir: ASICSdata.Rcheck Warnings: 0