Package: synaptome.data Version: 0.99.6 Command: /home/biocbuild/bbs-3.21-bioc/R/bin/R CMD INSTALL synaptome.data StartedAt: 2025-10-15 06:00:10 -0400 (Wed, 15 Oct 2025) EndedAt: 2025-10-15 06:00:23 -0400 (Wed, 15 Oct 2025) EllapsedTime: 12.7 seconds RetCode: 0 Status: OK