Package: org.Hbacteriophora.eg.db Version: 0.99.1 Command: /home/biocbuild/bbs-3.22-bioc/R/bin/R CMD INSTALL org.Hbacteriophora.eg.db StartedAt: 2025-11-05 05:55:08 -0500 (Wed, 05 Nov 2025) EndedAt: 2025-11-05 05:55:20 -0500 (Wed, 05 Nov 2025) EllapsedTime: 12.1 seconds RetCode: 0 Status: OK