Package: org.Hbacteriophora.eg.db Version: 0.99.1 Command: /home/biocbuild/bbs-3.22-bioc/R/bin/R CMD build --keep-empty-dirs --no-resave-data org.Hbacteriophora.eg.db StartedAt: 2025-11-05 05:57:15 -0500 (Wed, 05 Nov 2025) EndedAt: 2025-11-05 05:57:37 -0500 (Wed, 05 Nov 2025) EllapsedTime: 22.6 seconds RetCode: 0 Status: OK PackageFile: org.Hbacteriophora.eg.db_0.99.1.tar.gz PackageFileSize: 224.7 KiB