Package: org.Hbacteriophora.eg.db Version: 0.99.1 Maintainer: Kabilan S MaintainerEmail: kabilan151414 at gmail.com git_url: https://git.bioconductor.org/packages/org.Hbacteriophora.eg.db git_branch: RELEASE_3_22 git_last_commit: 36e89ee git_last_commit_date: 2025-07-03 07:20:26 -0500 (Thu, 03 Jul 2025)