Package: gwascatData Version: 0.99.6 Command: /home/biocbuild/bbs-3.22-bioc/R/bin/R CMD check --install=check:gwascatData.install-out.txt --library=/home/biocbuild/bbs-3.22-bioc/R/site-library --timings gwascatData_0.99.6.tar.gz StartedAt: 2025-11-05 05:59:27 -0500 (Wed, 05 Nov 2025) EndedAt: 2025-11-05 05:59:53 -0500 (Wed, 05 Nov 2025) EllapsedTime: 25.5 seconds RetCode: 1 Status: ERROR CheckDir: gwascatData.Rcheck Warnings: NA