Package: gwascatData Version: 0.99.6 Command: /home/biocbuild/bbs-3.22-bioc/R/bin/R CMD build --keep-empty-dirs --no-resave-data gwascatData StartedAt: 2025-11-05 05:56:42 -0500 (Wed, 05 Nov 2025) EndedAt: 2025-11-05 05:57:02 -0500 (Wed, 05 Nov 2025) EllapsedTime: 19.6 seconds RetCode: 0 Status: OK PackageFile: gwascatData_0.99.6.tar.gz PackageFileSize: 109.9 KiB