Package: chromhmmData Version: 0.99.2 Command: /home/biocbuild/bbs-3.22-bioc/R/bin/R CMD INSTALL chromhmmData StartedAt: 2025-11-05 05:55:07 -0500 (Wed, 05 Nov 2025) EndedAt: 2025-11-05 05:55:10 -0500 (Wed, 05 Nov 2025) EllapsedTime: 2.8 seconds RetCode: 0 Status: OK