Package: UniProtKeywords Version: 0.99.7 Command: /home/biocbuild/bbs-3.22-bioc/R/bin/R CMD check --install=check:UniProtKeywords.install-out.txt --library=/home/biocbuild/bbs-3.22-bioc/R/site-library --timings UniProtKeywords_0.99.7.tar.gz StartedAt: 2025-11-05 06:00:46 -0500 (Wed, 05 Nov 2025) EndedAt: 2025-11-05 06:01:06 -0500 (Wed, 05 Nov 2025) EllapsedTime: 19.6 seconds RetCode: 0 Status: OK CheckDir: UniProtKeywords.Rcheck Warnings: 0