Package: UCSCRepeatMasker Version: 3.22.0 Command: /home/biocbuild/bbs-3.22-bioc/R/bin/R CMD check --install=check:UCSCRepeatMasker.install-out.txt --library=/home/biocbuild/bbs-3.22-bioc/R/site-library --timings UCSCRepeatMasker_3.22.0.tar.gz StartedAt: 2025-11-05 06:00:46 -0500 (Wed, 05 Nov 2025) EndedAt: 2025-11-05 06:02:50 -0500 (Wed, 05 Nov 2025) EllapsedTime: 123.7 seconds RetCode: 0 Status: OK CheckDir: UCSCRepeatMasker.Rcheck Warnings: 0