Package: UCSCRepeatMasker Version: 3.22.0 Command: /home/biocbuild/bbs-3.22-bioc/R/bin/R CMD build --keep-empty-dirs --no-resave-data UCSCRepeatMasker StartedAt: 2025-11-05 05:57:28 -0500 (Wed, 05 Nov 2025) EndedAt: 2025-11-05 05:58:03 -0500 (Wed, 05 Nov 2025) EllapsedTime: 34.6 seconds RetCode: 0 Status: OK PackageFile: UCSCRepeatMasker_3.22.0.tar.gz PackageFileSize: 303.1 KiB