Package: JASPAR2024 Version: 0.99.7 Command: /home/biocbuild/bbs-3.22-bioc/R/bin/R CMD INSTALL JASPAR2024 StartedAt: 2025-11-05 05:55:10 -0500 (Wed, 05 Nov 2025) EndedAt: 2025-11-05 05:55:14 -0500 (Wed, 05 Nov 2025) EllapsedTime: 4.4 seconds RetCode: 0 Status: OK