Package: JASPAR2024 Version: 0.99.7 Command: /home/biocbuild/bbs-3.22-bioc/R/bin/R CMD check --install=check:JASPAR2024.install-out.txt --library=/home/biocbuild/bbs-3.22-bioc/R/site-library --timings JASPAR2024_0.99.7.tar.gz StartedAt: 2025-11-05 05:59:44 -0500 (Wed, 05 Nov 2025) EndedAt: 2025-11-05 06:00:19 -0500 (Wed, 05 Nov 2025) EllapsedTime: 35.2 seconds RetCode: 0 Status: OK CheckDir: JASPAR2024.Rcheck Warnings: 0