Package: GeneSummary Version: 0.99.6 Command: /home/biocbuild/bbs-3.22-bioc/R/bin/R CMD INSTALL GeneSummary StartedAt: 2025-11-05 05:55:07 -0500 (Wed, 05 Nov 2025) EndedAt: 2025-11-05 05:55:09 -0500 (Wed, 05 Nov 2025) EllapsedTime: 2.1 seconds RetCode: 0 Status: OK