Package: GeneSummary Version: 0.99.6 Command: /home/biocbuild/bbs-3.22-bioc/R/bin/R CMD check --install=check:GeneSummary.install-out.txt --library=/home/biocbuild/bbs-3.22-bioc/R/site-library --timings GeneSummary_0.99.6.tar.gz StartedAt: 2025-11-05 05:59:08 -0500 (Wed, 05 Nov 2025) EndedAt: 2025-11-05 05:59:27 -0500 (Wed, 05 Nov 2025) EllapsedTime: 18.3 seconds RetCode: 0 Status: OK CheckDir: GeneSummary.Rcheck Warnings: 0