Package: EPICv2manifest Version: 0.99.7 Command: /home/biocbuild/bbs-3.22-bioc/R/bin/R CMD build --keep-empty-dirs --no-resave-data EPICv2manifest StartedAt: 2025-11-05 05:56:17 -0500 (Wed, 05 Nov 2025) EndedAt: 2025-11-05 05:56:28 -0500 (Wed, 05 Nov 2025) EllapsedTime: 10.6 seconds RetCode: 0 Status: OK PackageFile: EPICv2manifest_0.99.7.tar.gz PackageFileSize: 7.228 KiB