Package: ENCODExplorerData Version: 0.99.5 Command: /home/biocbuild/bbs-3.22-bioc/R/bin/R CMD INSTALL ENCODExplorerData StartedAt: 2025-11-05 05:55:08 -0500 (Wed, 05 Nov 2025) EndedAt: 2025-11-05 05:55:11 -0500 (Wed, 05 Nov 2025) EllapsedTime: 3.2 seconds RetCode: 0 Status: OK