Package: CTCF Version: 0.99.12 Command: /home/biocbuild/bbs-3.22-bioc/R/bin/R CMD check --install=check:CTCF.install-out.txt --library=/home/biocbuild/bbs-3.22-bioc/R/site-library --timings CTCF_0.99.12.tar.gz StartedAt: 2025-11-05 05:58:44 -0500 (Wed, 05 Nov 2025) EndedAt: 2025-11-05 05:59:50 -0500 (Wed, 05 Nov 2025) EllapsedTime: 66.4 seconds RetCode: 0 Status: OK CheckDir: CTCF.Rcheck Warnings: 0