Package: AHPubMedDbs Version: 1.8.0 Command: /home/biocbuild/bbs-3.22-bioc/R/bin/R CMD INSTALL AHPubMedDbs StartedAt: 2025-11-05 05:55:17 -0500 (Wed, 05 Nov 2025) EndedAt: 2025-11-05 05:55:18 -0500 (Wed, 05 Nov 2025) EllapsedTime: 1.2 seconds RetCode: 0 Status: OK