Package: AHPubMedDbs Version: 1.8.0 Command: /home/biocbuild/bbs-3.22-bioc/R/bin/R CMD check --install=check:AHPubMedDbs.install-out.txt --library=/home/biocbuild/bbs-3.22-bioc/R/site-library --timings AHPubMedDbs_1.8.0.tar.gz StartedAt: 2025-11-05 05:58:44 -0500 (Wed, 05 Nov 2025) EndedAt: 2025-11-05 05:59:08 -0500 (Wed, 05 Nov 2025) EllapsedTime: 24.2 seconds RetCode: 0 Status: OK CheckDir: AHPubMedDbs.Rcheck Warnings: 0