Package: AHPubMedDbs Version: 1.8.0 Command: /home/biocbuild/bbs-3.22-bioc/R/bin/R CMD build --keep-empty-dirs --no-resave-data AHPubMedDbs StartedAt: 2025-11-05 05:56:15 -0500 (Wed, 05 Nov 2025) EndedAt: 2025-11-05 05:56:29 -0500 (Wed, 05 Nov 2025) EllapsedTime: 13.8 seconds RetCode: 0 Status: OK PackageFile: AHPubMedDbs_1.8.0.tar.gz PackageFileSize: 297.4 KiB