Package: AHCytoBands Version: 0.99.1 Command: /home/biocbuild/bbs-3.22-bioc/R/bin/R CMD check --install=check:AHCytoBands.install-out.txt --library=/home/biocbuild/bbs-3.22-bioc/R/site-library --timings AHCytoBands_0.99.1.tar.gz StartedAt: 2025-11-05 05:58:44 -0500 (Wed, 05 Nov 2025) EndedAt: 2025-11-05 05:58:52 -0500 (Wed, 05 Nov 2025) EllapsedTime: 8.3 seconds RetCode: 0 Status: OK CheckDir: AHCytoBands.Rcheck Warnings: 0