Package: SingleRBook Version: 1.20.0 Command: /home/biocbuild/bbs-3.22-books/R/bin/R CMD INSTALL SingleRBook StartedAt: 2025-10-31 06:45:16 -0400 (Fri, 31 Oct 2025) EndedAt: 2025-10-31 06:45:52 -0400 (Fri, 31 Oct 2025) EllapsedTime: 35.7 seconds RetCode: 0 Status: OK