Package: SingleRBook Version: 1.20.0 Command: /home/biocbuild/bbs-3.22-books/R/bin/R CMD build --keep-empty-dirs --no-resave-data SingleRBook StartedAt: 2025-10-31 06:50:08 -0400 (Fri, 31 Oct 2025) EndedAt: 2025-10-31 07:14:53 -0400 (Fri, 31 Oct 2025) EllapsedTime: 1485.1 seconds RetCode: 0 Status: OK PackageFile: SingleRBook_1.20.0.tar.gz PackageFileSize: 6.169 MiB