Package: SingleRBook Version: 1.20.0 Command: /Library/Frameworks/R.framework/Resources/bin/R CMD INSTALL SingleRBook StartedAt: 2025-10-31 06:45:24 -0400 (Fri, 31 Oct 2025) EndedAt: 2025-10-31 06:45:53 -0400 (Fri, 31 Oct 2025) EllapsedTime: 28.8 seconds RetCode: 0 Status: OK