Package: SingleRBook Version: 1.20.0 Command: rm -rf SingleRBook.book && mkdir SingleRBook.book && /Users/biocbuild/BBS/utils/deploy_book.py SingleRBook_1.20.0.tar.gz SingleRBook.book StartedAt: 2025-11-07 08:19:15 -0500 (Fri, 07 Nov 2025) EndedAt: 2025-11-07 08:19:16 -0500 (Fri, 07 Nov 2025) EllapsedTime: 0.6 seconds RetCode: 0 Status: OK DeployDestDir: SingleRBook.book Warnings: 0