############################################################################## ############################################################################## ### ### Running command: ### ### rm -rf SingleRBook.book && mkdir SingleRBook.book && /Users/biocbuild/BBS/utils/deploy_book.py SingleRBook_1.20.0.tar.gz SingleRBook.book ### ############################################################################## ############################################################################## Deploying content from book tarball 'SingleRBook_1.20.0.tar.gz' to 'SingleRBook.book/SingleRBook/' ... OK