Package: SingleRBook Version: 1.18.0 Maintainer: Aaron Lun MaintainerEmail: infinite.monkeys.with.keyboards at gmail.com git_url: https://git.bioconductor.org/packages/SingleRBook git_branch: RELEASE_3_21 git_last_commit: 0fc6cad git_last_commit_date: 2025-04-15 10:47:08 -0400 (Tue, 15 Apr 2025)