Package: OSCA.workflows Version: 1.16.0 Command: /home/biocbuild/bbs-3.21-bioc/R/bin/R CMD INSTALL OSCA.workflows StartedAt: 2025-10-13 10:15:08 -0400 (Mon, 13 Oct 2025) EndedAt: 2025-10-13 10:15:46 -0400 (Mon, 13 Oct 2025) EllapsedTime: 38.6 seconds RetCode: 0 Status: OK