Package: OSCA.multisample Version: 1.16.0 Command: /home/biocbuild/bbs-3.21-bioc/R/bin/R CMD INSTALL OSCA.multisample StartedAt: 2025-10-15 10:15:47 -0400 (Wed, 15 Oct 2025) EndedAt: 2025-10-15 10:16:15 -0400 (Wed, 15 Oct 2025) EllapsedTime: 27.5 seconds RetCode: 0 Status: OK