Package: OSCA.multisample Version: 1.16.0 Maintainer: Alan O'Callaghan MaintainerEmail: alan.ocallaghan at outlook.com git_url: https://git.bioconductor.org/packages/OSCA.multisample git_branch: RELEASE_3_21 git_last_commit: 5b52eed git_last_commit_date: 2025-04-15 10:47:26 -0400 (Tue, 15 Apr 2025)