Package: OSCA.intro Version: 1.16.1 Command: /home/biocbuild/bbs-3.21-bioc/R/bin/R CMD INSTALL OSCA.intro StartedAt: 2025-10-13 10:15:08 -0400 (Mon, 13 Oct 2025) EndedAt: 2025-10-13 10:15:41 -0400 (Mon, 13 Oct 2025) EllapsedTime: 33.2 seconds RetCode: 0 Status: OK