Package: OSCA.intro Version: 1.16.1 Maintainer: Ludwig Geistlinger MaintainerEmail: ludwig_geistlinger at hms.harvard.edu git_url: https://git.bioconductor.org/packages/OSCA.intro git_branch: RELEASE_3_21 git_last_commit: 7daaa31 git_last_commit_date: 2025-06-25 18:55:16 -0400 (Wed, 25 Jun 2025)