Package: BiocBookDemo Version: 1.6.0 Command: /home/biocbuild/bbs-3.21-bioc/R/bin/R CMD build --keep-empty-dirs --no-resave-data BiocBookDemo StartedAt: 2025-10-13 10:17:09 -0400 (Mon, 13 Oct 2025) EndedAt: 2025-10-13 10:18:04 -0400 (Mon, 13 Oct 2025) EllapsedTime: 55.3 seconds RetCode: 0 Status: OK PackageFile: BiocBookDemo_1.6.0.tar.gz PackageFileSize: 3.302 MiB