Package: zellkonverter Version: 1.21.0 Command: /home/rapidbuild/bbs-3.22-bioc-rapid/R/bin/R CMD build --keep-empty-dirs --no-resave-data zellkonverter StartedAt: 2025-10-30 13:10:44 -0400 (Thu, 30 Oct 2025) EndedAt: 2025-10-30 13:11:07 -0400 (Thu, 30 Oct 2025) EllapsedTime: 23.2 seconds RetCode: 1 Status: ERROR PackageFile: None PackageFileSize: NA